BEGIN:VCALENDAR
PRODID:-//eluceo/ical//2.0/EN
VERSION:2.0
CALSCALE:GREGORIAN
BEGIN:VEVENT
UID:31efa0ddebcc7535217e5cd2a4f580b9
DTSTAMP:20260424T105151Z
SUMMARY:Internt Klubbmöte
DESCRIPTION:
URL:https://leksand.rotary2335.se/sv/agenda/show/212319
DTSTART;TZID=Europe/Zurich:20250320T120000
DTEND;TZID=Europe/Zurich:20250320T130000
LOCATION:Leksands Folkhögskola\, Siljegårdsvägen 21\, 793 33 Leksand\, S
 verige
CATEGORIES:Rotary
END:VEVENT
BEGIN:VTIMEZONE
TZID:Europe/Zurich
BEGIN:STANDARD
DTSTART:20250320T120000
TZNAME:CET
TZOFFSETTO:+0100
TZOFFSETFROM:+0100
END:STANDARD
END:VTIMEZONE
END:VCALENDAR
